BEGIN:VCALENDAR
X-WR-TIMEZONE:Europe/Berlin
X-WR-CALNAME:rbb-Kalender
VERSION:2.0
METHOD:PUBLISH
CALSCALE:GREGORIAN
PRODID:rbb-CMS DAY
BEGIN:VEVENT
CLASS:PUBLIC
URL:http://www.rbb-online.de/content/rbb/rbb/kontraste/ueber_den_tag_hinaus/gesundheit/schicksal_psychiatrie.html
DTEND:20011206T214500
DTSTART:20011206T214500
UID:/content/rbb/rbb/kontraste/ueber_den_tag_hinaus/gesundheit/schicksal_psychiatrie
DTSTAMP:20140405T215808
DESCRIPTION:Vera Stein war einmal ein ganz normaler Teenager - bis ihr Vater sie in die Psychiatrie sperren ließ. Auch später, als Erwachsene, wurde sie eingesperrt: gegen ihren Willen und ohne krank zu sein. Die Medikamente ruinierten ihre Gesundheit. Und Psychiater und Richter finden das bis heute völlig in Ordnung.
SUMMARY:Schicksal Psychiatrie: Wie Psychiater das Leben der Vera Stein zerstörten
END:VEVENT
END:VCALENDAR
