BEGIN:VCALENDAR
X-WR-TIMEZONE:Europe/Berlin
X-WR-CALNAME:rbb-Kalender
VERSION:2.0
METHOD:PUBLISH
CALSCALE:GREGORIAN
PRODID:rbb-CMS DAY
BEGIN:VEVENT
CLASS:PUBLIC
URL:http://www.rbb-online.de/content/rbb/rbb/kontraste/ueber_den_tag_hinaus/gesundheit/sterben_ohne_wuerde.html
DTEND:20060302T214500
DTSTART:20060302T214500
UID:/content/rbb/rbb/kontraste/ueber_den_tag_hinaus/gesundheit/sterben_ohne_wuerde
DTSTAMP:20140405T221035
DESCRIPTION:Als der Mann in die Notaufnahme des Berliner Urban-Krankenhauses eingeliefert wurde, hatte er nur noch wenige Tage zu leben. Der Dienst habende Arzt ist entsetzt - nicht zum ersten Mal. Wer alt ist und keine Angehörigen hat, der wird schnell vergessen in deutschen Pflegeheimen.  Norbert Sigmund und Ursel Sieber decken auf, woran das deutsche Pflegesystem krankt.
SUMMARY:Sterben ohne Würde – Wie in deutschen Heimen Alte zu Tode gepflegt werden
END:VEVENT
END:VCALENDAR
