BEGIN:VCALENDAR
X-WR-TIMEZONE:Europe/Berlin
X-WR-CALNAME:rbb-Kalender
VERSION:2.0
METHOD:PUBLISH
CALSCALE:GREGORIAN
PRODID:rbb-CMS DAY
BEGIN:VEVENT
CLASS:PUBLIC
URL:http://www.rbb-online.de/content/rbb/rbb/kontraste/ueber_den_tag_hinaus/gesundheit/todmuede___streit.html
DTEND:20091022T214500
DTSTART:20091022T214500
UID:/content/rbb/rbb/kontraste/ueber_den_tag_hinaus/gesundheit/todmuede___streit
DTSTAMP:20140405T220301
DESCRIPTION:14 Stunden im Cockpit im Dienst – nicht nur auf Langstreckenflügen wird den Piloten einiges abverlangt. Immer öfter klagen sie über gefährliche Erschöpfungszustände. Schon vor Jahren berichtete KONTRASTE über die Sicherheitsrisiken, die davon ausgehen. Obwohl jetzt auch wissenschaftliche Gutachter kürzere Dienstzeiten fordern, bleibt die Politik tatenlos.
SUMMARY:Todmüde – Streit um zu lange Flugzeiten von Piloten
END:VEVENT
END:VCALENDAR
