BEGIN:VCALENDAR
X-WR-TIMEZONE:Europe/Berlin
X-WR-CALNAME:rbb-Kalender
VERSION:2.0
METHOD:PUBLISH
CALSCALE:GREGORIAN
PRODID:rbb-CMS DAY
BEGIN:VEVENT
CLASS:PUBLIC
URL:http://www.rbb-online.de/content/rbb/rbb/kontraste/ueber_den_tag_hinaus/gesundheit/unter_verdacht___pflanzenschutzmittel.html
DTEND:20090709T214500
DTSTART:20090709T214500
UID:/content/rbb/rbb/kontraste/ueber_den_tag_hinaus/gesundheit/unter_verdacht___pflanzenschutzmittel
DTSTAMP:20140405T220027
DESCRIPTION:"Roundup" ist der Weltmarktführer unter den Pflanzenschutzmitteln und gilt als unbedenklich. Doch neue Studien legen den Verdacht nahe, dass bislang unerkannte Gefahren von dem Mittel ausgehen könnten. Die Behörden allerdings reagieren unzureichend.
SUMMARY:Unter Verdacht – Pflanzenschutzmittel "Roundup" doch gesundheitsschädlich?
END:VEVENT
END:VCALENDAR
