BEGIN:VCALENDAR
X-WR-TIMEZONE:Europe/Berlin
X-WR-CALNAME:rbb-Kalender
VERSION:2.0
METHOD:PUBLISH
CALSCALE:GREGORIAN
PRODID:rbb-CMS DAY
BEGIN:VEVENT
CLASS:PUBLIC
URL:http://www.rbb-online.de/content/rbb/rbb/kontraste/ueber_den_tag_hinaus/migration_integration/ausstossen_reicht.html
DTEND:20050303T214500
DTSTART:20050303T214500
UID:/content/rbb/rbb/kontraste/ueber_den_tag_hinaus/migration_integration/ausstossen_reicht
DTSTAMP:20140405T220417
DESCRIPTION:Entsetzen über den jüngsten Ehrenmord. Entsetzen auch über die Legitimierung der Tat durch drei Berliner Schüler. Für die Mehrheit der türkischen und arabischen Jugendlichen ist es unvorstellbar, die eigene Schwester zu töten. Dennoch sind viele überzeugt: Freiheit, Unabhängigkeit und Freizügigkeit steht Frauen nicht zu. Das ist eine Frage der Ehre. Katrin Aue über den verhängnisvollen Import von Traditionen.
SUMMARY:Ausstoßen reicht doch – wie Berliner Schüler über Frauen und Ehre denken
END:VEVENT
END:VCALENDAR
