BEGIN:VCALENDAR
X-WR-TIMEZONE:Europe/Berlin
X-WR-CALNAME:rbb-Kalender
VERSION:2.0
METHOD:PUBLISH
CALSCALE:GREGORIAN
PRODID:rbb-CMS DAY
BEGIN:VEVENT
CLASS:PUBLIC
URL:http://www.rbb-online.de/content/rbb/rbb/kontraste/ueber_den_tag_hinaus/migration_integration/brennende_autos_in.html
DTEND:20091203T220000
DTSTART:20091203T220000
UID:/content/rbb/rbb/kontraste/ueber_den_tag_hinaus/migration_integration/brennende_autos_in
DTSTAMP:20140405T221219
DESCRIPTION:Fast jede Nacht werden in Berlin Autos angezündet. Die Polizei vermutet Linksautonome hinter den Anschlägen. Was kaum einer weiß: Bei den vermeintlich schwerreichen Besitzern der ausgebrannten Luxuslimousinen handelt es sich oft um Kreuzberger Türken. Und deren Wut wächst.
SUMMARY:Brennende Autos in Berlin – Kreuzbergs Türken sind wütend
END:VEVENT
END:VCALENDAR
