BEGIN:VCALENDAR
X-WR-TIMEZONE:Europe/Berlin
X-WR-CALNAME:rbb-Kalender
VERSION:2.0
METHOD:PUBLISH
CALSCALE:GREGORIAN
PRODID:rbb-CMS DAY
BEGIN:VEVENT
CLASS:PUBLIC
URL:http://www.rbb-online.de/content/rbb/rbb/kontraste/ueber_den_tag_hinaus/migration_integration/der_fall_joseph.html
DTEND:20010301T214500
DTSTART:20010301T214500
UID:/content/rbb/rbb/kontraste/ueber_den_tag_hinaus/migration_integration/der_fall_joseph
DTSTAMP:20140405T221231
DESCRIPTION:Joseph Kantelberg-Abdullah: Am 22. November 2000 verhaftet die Dresdner Staatsanwaltschaft drei Jugendliche aus der Kleinstadt Sebnitz wegen dringenden Mordverdachts. KONTRASTE-Recherchen belegen, die Verhaftung, die weltweit für Aufsehen sorgte, ist auf Schlamperei und Unprofessionalität der Staatsanwaltschaft zurückzuführen.
SUMMARY:Der Fall Joseph - Staatsanwaltschaft versagte bei den Ermittlungen in Sebnitz
END:VEVENT
END:VCALENDAR
