BEGIN:VCALENDAR
X-WR-TIMEZONE:Europe/Berlin
X-WR-CALNAME:rbb-Kalender
VERSION:2.0
METHOD:PUBLISH
CALSCALE:GREGORIAN
PRODID:rbb-CMS DAY
BEGIN:VEVENT
CLASS:PUBLIC
URL:http://www.rbb-online.de/content/rbb/rbb/kontraste/ueber_den_tag_hinaus/migration_integration/fitness_nur_fuer_deutsche.html
DTEND:20040610T214500
DTSTART:20040610T214500
UID:/content/rbb/rbb/kontraste/ueber_den_tag_hinaus/migration_integration/fitness_nur_fuer_deutsche
DTSTAMP:20140405T220321
DESCRIPTION:Gesund, jung, attraktiv - und vor allem deutsch sollten die Besucher von Fitness-Studios sein. Sonst könnte es Probleme geben. Als sei das nicht Skandal genug, öffnet selbst die deutsche Staatsangehörigkeit nicht jede Tür. Vielerorts genügt es schon, einfach nur "ausländisch" auszusehen, um ausgegrenzt zu werden. Andrea Everwien und Roland Jahn haben die Probe aufs Exempel gemacht.
SUMMARY:Fitness nur für Deutsche - Wie Sportstudios Ausländer diskriminieren
END:VEVENT
END:VCALENDAR
