BEGIN:VCALENDAR
X-WR-TIMEZONE:Europe/Berlin
X-WR-CALNAME:rbb-Kalender
VERSION:2.0
METHOD:PUBLISH
CALSCALE:GREGORIAN
PRODID:rbb-CMS DAY
BEGIN:VEVENT
CLASS:PUBLIC
URL:http://www.rbb-online.de/content/rbb/rbb/kontraste/ueber_den_tag_hinaus/migration_integration/herzlich_willkommen.html
DTEND:20060504T214500
DTSTART:20060504T214500
UID:/content/rbb/rbb/kontraste/ueber_den_tag_hinaus/migration_integration/herzlich_willkommen
DTSTAMP:20140405T215532
DESCRIPTION:Quais Kamran stammt aus Afghanistan. Er lebt mit seinen Eltern und Geschwistern seit 16 Jahren im hessischen Friedberg. Nach seinem Schulabschluss will er Polizist werden. Doch ausgerechnet als er sich um die Ausbildung zum Polizeibeamten bewerben will, wird die Ausländerbehörde auf ihn aufmerksam: Jetzt will sie ihn und einen Großteil seiner Familie abschieben. Über das Thema „Abschiebung von Altfällen“ diskutiert seit heute die Innenministerkonferenz. Susanne Opalka und Steffen Mayer berichten über gedankenlose und inhumane Ausländerpolitik.
SUMMARY:Herzlich Willkommen zur Abschiebung – wie ein junger Mann trotz Integration an der Willkür der Behörden scheitert
END:VEVENT
END:VCALENDAR
