BEGIN:VCALENDAR
X-WR-TIMEZONE:Europe/Berlin
X-WR-CALNAME:rbb-Kalender
VERSION:2.0
METHOD:PUBLISH
CALSCALE:GREGORIAN
PRODID:rbb-CMS DAY
BEGIN:VEVENT
CLASS:PUBLIC
URL:http://www.rbb-online.de/content/rbb/rbb/kontraste/ueber_den_tag_hinaus/migration_integration/lippenbekenntnis.html
DTEND:20101028T220000
DTSTART:20101028T220000
UID:/content/rbb/rbb/kontraste/ueber_den_tag_hinaus/migration_integration/lippenbekenntnis
DTSTAMP:20140405T222227
DESCRIPTION:Quer durch die Parteien ist es Konsens: für die Integration von Kindern nichtdeutscher Herkunft an den Schulen muss mehr getan werden. Doch im konkreten Alltag mangelt es Schulen in sozialen Brennpunkten oft an Geld. Sozialarbeiter erhalten nur monateweise Honoraraufträge. Und wenn Lehrer krank werden, fällt der Förderunterricht aus.
SUMMARY:Lippenbekenntnis Integration - an den Schulen fehlt es an Geld und Personal
END:VEVENT
END:VCALENDAR
