BEGIN:VCALENDAR
X-WR-TIMEZONE:Europe/Berlin
X-WR-CALNAME:rbb-Kalender
VERSION:2.0
METHOD:PUBLISH
CALSCALE:GREGORIAN
PRODID:rbb-CMS DAY
BEGIN:VEVENT
CLASS:PUBLIC
URL:http://www.rbb-online.de/content/rbb/rbb/kontraste/ueber_den_tag_hinaus/migration_integration/statt_integration.html
DTEND:20091022T214500
DTSTART:20091022T214500
UID:/content/rbb/rbb/kontraste/ueber_den_tag_hinaus/migration_integration/statt_integration
DTSTAMP:20140405T222334
DESCRIPTION:Eigentlich hat Hasan Khateeb alles richtig gemacht: Deutsch gelernt, Abitur gemacht, Jurastudium begonnen. Doch nun soll der Palästinenser mit seinen sieben Geschwistern nach Jordanien abgeschoben werden. Sein Vater soll bei der Einreise angeblich falsche Angaben gemacht haben - vor 17 Jahren.
SUMMARY:Statt Integration Abschiebung - Behördenwillkür nach 17 Jahren Deutschlandaufenthalt
END:VEVENT
END:VCALENDAR
