BEGIN:VCALENDAR
X-WR-TIMEZONE:Europe/Berlin
X-WR-CALNAME:rbb-Kalender
VERSION:2.0
METHOD:PUBLISH
CALSCALE:GREGORIAN
PRODID:rbb-CMS DAY
BEGIN:VEVENT
CLASS:PUBLIC
URL:http://www.rbb-online.de/content/rbb/rbb/kontraste/ueber_den_tag_hinaus/terrorismus/aufklaerung_von_sexuellem.html
DTEND:20100311T214500
DTSTART:20100311T214500
UID:/content/rbb/rbb/kontraste/ueber_den_tag_hinaus/terrorismus/aufklaerung_von_sexuellem
DTSTAMP:20140405T220538
DESCRIPTION:Angesichts der Vielzahl der Fälle von sexuellem Missbrauch hat sich der katholische Jesuitenorden Aufarbeitung auf die Fahnen geschrieben. Doch wie KONTRASTE-Recherchen zeigen, klaffen Anspruch und Wirklichkeit immer noch auseinander. Opfer erheben schwere Vorwürfe und bezweifeln den Willen zur Aufklärung.
SUMMARY:Aufklärung von sexuellem Missbrauch – Kluft zwischen Anspruch und Wirklichkeit
END:VEVENT
END:VCALENDAR
