BEGIN:VCALENDAR
X-WR-TIMEZONE:Europe/Berlin
X-WR-CALNAME:rbb-Kalender
VERSION:2.0
METHOD:PUBLISH
CALSCALE:GREGORIAN
PRODID:rbb-CMS DAY
BEGIN:VEVENT
CLASS:PUBLIC
URL:http://www.rbb-online.de/content/rbb/rbb/kontraste/ueber_den_tag_hinaus/terrorismus/die_ratlosigkeit_der.html
DTEND:20100805T214500
DTSTART:20100805T214500
UID:/content/rbb/rbb/kontraste/ueber_den_tag_hinaus/terrorismus/die_ratlosigkeit_der
DTSTAMP:20140405T215526
DESCRIPTION:Was tun mit schwer kriminellen Kindern? Immer wieder werden sogar Elfjährige aufgegriffen, die mit Drogen dealen oder gewalttätig sind. Und immer wieder werden sie laufen gelassen. Viele Politiker fordern nun geschlossene Heime.
SUMMARY:Die Ratlosigkeit der Politik - Geschlossene Heime für Kinder?
END:VEVENT
END:VCALENDAR
