BEGIN:VCALENDAR
X-WR-TIMEZONE:Europe/Berlin
X-WR-CALNAME:rbb-Kalender
VERSION:2.0
METHOD:PUBLISH
CALSCALE:GREGORIAN
PRODID:rbb-CMS DAY
BEGIN:VEVENT
CLASS:PUBLIC
URL:http://www.rbb-online.de/content/rbb/rbb/kontraste/ueber_den_tag_hinaus/terrorismus/gefaengnis_ausser.html
DTEND:20070830T214500
DTSTART:20070830T214500
UID:/content/rbb/rbb/kontraste/ueber_den_tag_hinaus/terrorismus/gefaengnis_ausser
DTSTAMP:20140405T220430
DESCRIPTION:Ungehindert von Behörden oder der Polizei lassen sich Straftäter Drogen in ein Berliner Gefängnis schmuggeln. Direkte Anwohner der Jugendstrafanstalt in Plötzensee sind machtlos und fühlen sich bedroht. Die Behörden wissen von dem offenen Drogenschmuggel – aber unternehmen nichts. Unsere Reporter haben sich auf die Lauer gelegt – und schockierende Szenen gefilmt.
SUMMARY:Gefängnis außer Kontrolle – Straftaten im Jugendstrafvollzug
END:VEVENT
END:VCALENDAR
