BEGIN:VCALENDAR
X-WR-TIMEZONE:Europe/Berlin
X-WR-CALNAME:rbb-Kalender
VERSION:2.0
METHOD:PUBLISH
CALSCALE:GREGORIAN
PRODID:rbb-CMS DAY
BEGIN:VEVENT
CLASS:PUBLIC
URL:http://www.rbb-online.de/content/rbb/rbb/kontraste/ueber_den_tag_hinaus/terrorismus/medien_und_die_taliban.html
DTEND:20090205T214500
DTSTART:20090205T214500
UID:/content/rbb/rbb/kontraste/ueber_den_tag_hinaus/terrorismus/medien_und_die_taliban
DTSTAMP:20140405T220917
DESCRIPTION:Sie führen eine  Propagandaschlacht. Die Terrorgruppen Taliban und Al Qaida versuchen, die deutsche Politik zu beeinflussen. Sie wollen den Abzug der deutschen Truppen aus Afghanistan mit Propaganda-Meldungen und Terroranschlägen erzwingen. Doch wie gehen die deutschen Medien mit den Verlautbarungen von Taliban und Al Qaida um? So manche Agentur macht sich mit Meldungen zum unfreiwilligen Helfer der Terroristen.
SUMMARY:Medien und die Taliban - Die schleichende Verharmlosung von Terroristen
END:VEVENT
END:VCALENDAR
