BEGIN:VCALENDAR
X-WR-TIMEZONE:Europe/Berlin
X-WR-CALNAME:rbb-Kalender
VERSION:2.0
METHOD:PUBLISH
CALSCALE:GREGORIAN
PRODID:rbb-CMS DAY
BEGIN:VEVENT
CLASS:PUBLIC
URL:http://www.rbb-online.de/content/rbb/rbb/kontraste/ueber_den_tag_hinaus/terrorismus/mit_sicherheit_in.html
DTEND:20011025T214500
DTSTART:20011025T214500
UID:/content/rbb/rbb/kontraste/ueber_den_tag_hinaus/terrorismus/mit_sicherheit_in
DTSTAMP:20140405T215930
DESCRIPTION:Er sei doch ein Freund des Datenschutzes, lässt Innenminister Schily verlauten - und schränkt gleich wieder ein: wenn dieser Datenschutz Ermittlungen behindere, müsse er eben weichen. Rechtfertigung für einen Großangriff auf die Bürgerrechte: Die Pläne des forschen Ministers sehen es vor, Menschen reihenweise zu vermessen und Daten über ihren Körper zu speichern. Wer fragt in Zeiten der Terrorangst schon nach, was man mit den Daten alles anstellen kann.
SUMMARY:Mit Sicherheit in den Überwachungsstaat? Terrorabwehr und Bürgerrechte
END:VEVENT
END:VCALENDAR
