BEGIN:VCALENDAR
X-WR-TIMEZONE:Europe/Berlin
X-WR-CALNAME:rbb-Kalender
VERSION:2.0
METHOD:PUBLISH
CALSCALE:GREGORIAN
PRODID:rbb-CMS DAY
BEGIN:VEVENT
CLASS:PUBLIC
URL:http://www.rbb-online.de/content/rbb/rbb/kontraste/ueber_den_tag_hinaus/terrorismus/neue_wege_der_justiz.html
DTEND:19990107T214500
DTSTART:19990107T214500
UID:/content/rbb/rbb/kontraste/ueber_den_tag_hinaus/terrorismus/neue_wege_der_justiz
DTSTAMP:20140405T220337
DESCRIPTION:Die deutschen Gefängnisse sind überfüllt. Entlastung soll eine Justizreform bringen, die unter anderem ein Fahrverbot als Strafe auch für allgemeine Taten möglich macht. Ist das Konzept sinnvoll oder praxisfern?
SUMMARY:Neue Wege der Justiz: Führerscheinentzug statt Knast ?
END:VEVENT
END:VCALENDAR
