BEGIN:VCALENDAR
X-WR-TIMEZONE:Europe/Berlin
X-WR-CALNAME:rbb-Kalender
VERSION:2.0
METHOD:PUBLISH
CALSCALE:GREGORIAN
PRODID:rbb-CMS DAY
BEGIN:VEVENT
CLASS:PUBLIC
URL:http://www.rbb-online.de/content/rbb/rbb/kontraste/ueber_den_tag_hinaus/terrorismus/sicherungsverwahrung.html
DTEND:20100311T214500
DTSTART:20100311T214500
UID:/content/rbb/rbb/kontraste/ueber_den_tag_hinaus/terrorismus/sicherungsverwahrung
DTSTAMP:20140405T221204
DESCRIPTION:Die Zahl der Häftlinge in Sicherungsverwahrung hat sich in Deutschland seit den 90er Jahren verdreifacht. Spektakuläre Einzelfälle bei Sexualstraftaten treiben die Politik dazu, die Gesetze zu verschärfen. Die Folge: Auch immer mehr ungefährliche Täter bleiben nach Verbüßung ihrer Strafe im Gefängnis – womöglich bis zum Tod.
SUMMARY:Sicherungsverwahrung – Wegsperren bis in alle Ewigkeit?
END:VEVENT
END:VCALENDAR
