BEGIN:VCALENDAR
X-WR-TIMEZONE:Europe/Berlin
X-WR-CALNAME:rbb-Kalender
VERSION:2.0
METHOD:PUBLISH
CALSCALE:GREGORIAN
PRODID:rbb-CMS DAY
BEGIN:VEVENT
CLASS:PUBLIC
URL:http://www.rbb-online.de/content/rbb/rbb/kontraste/ueber_den_tag_hinaus/umwelt/atom_endlager.html
DTEND:20090528T214500
DTSTART:20090528T214500
UID:/content/rbb/rbb/kontraste/ueber_den_tag_hinaus/umwelt/atom_endlager
DTSTAMP:20140405T221452
DESCRIPTION:Durch ständige Wassereinbrüche kann eine radioaktive Verseuchung des Grundwassers rund um das Atom-Endlager Asse nicht ausgeschlossen werden. Kontraste deckt auf, wie die Politik die Gefahren für die Umwelt über Jahrzehnte geheim hielt. 
SUMMARY:Atom-Endlager vor dem GAU – was wusste Kohls Umweltministerin Angela Merkel?
END:VEVENT
END:VCALENDAR
