BEGIN:VCALENDAR
X-WR-TIMEZONE:Europe/Berlin
X-WR-CALNAME:rbb-Kalender
VERSION:2.0
METHOD:PUBLISH
CALSCALE:GREGORIAN
PRODID:rbb-CMS DAY
BEGIN:VEVENT
CLASS:PUBLIC
URL:http://www.rbb-online.de/content/rbb/rbb/kontraste/ueber_den_tag_hinaus/umwelt/geheimer_pruefkatalog.html
DTEND:20110317T220000
DTSTART:20110317T220000
UID:/content/rbb/rbb/kontraste/ueber_den_tag_hinaus/umwelt/geheimer_pruefkatalog
DTSTAMP:20140405T222113
DESCRIPTION:Interne Unterlagen der Bundesregierung, die KONTRASTE exklusiv vorliegen, belegen: Allen deutschen Kernkraftwerken droht das AUS. Experten fordern neue Sicherheitsstandards, deren Umsetzung die Energiewirtschaft Milliarden kosten würde.
SUMMARY:Geheimer Prüfkatalog - Alle AKW vor dem Aus?
END:VEVENT
END:VCALENDAR
