BEGIN:VCALENDAR
X-WR-TIMEZONE:Europe/Berlin
X-WR-CALNAME:rbb-Kalender
VERSION:2.0
METHOD:PUBLISH
CALSCALE:GREGORIAN
PRODID:rbb-CMS DAY
BEGIN:VEVENT
CLASS:PUBLIC
URL:http://www.rbb-online.de/content/rbb/rbb/kontraste/ueber_den_tag_hinaus/umwelt/kein_sicheres_atommuell.html
DTEND:20091001T214500
DTSTART:20091001T214500
UID:/content/rbb/rbb/kontraste/ueber_den_tag_hinaus/umwelt/kein_sicheres_atommuell
DTSTAMP:20140405T215857
DESCRIPTION:Nach dem Wahlsieg von Schwarz-Gelb hofft die Atomindustrie auf den Ausstieg aus dem Ausstieg. Doch noch immer ist die Endlagerung umstritten. Die CDU hält an Gorleben fest – trotz Empfehlungen von Wissenschaftlern, andere Standorte zumindest zu überprüfen.
SUMMARY:Kein sicheres Atommüll-Endlager – Alternativen zu Gorleben gefordert
END:VEVENT
END:VCALENDAR
