BEGIN:VCALENDAR
X-WR-TIMEZONE:Europe/Berlin
X-WR-CALNAME:rbb-Kalender
VERSION:2.0
METHOD:PUBLISH
CALSCALE:GREGORIAN
PRODID:rbb-CMS DAY
BEGIN:VEVENT
CLASS:PUBLIC
URL:http://www.rbb-online.de/content/rbb/rbb/kontraste/ueber_den_tag_hinaus/umwelt/sicherheitsrisiko.html
DTEND:20091022T214500
DTSTART:20091022T214500
UID:/content/rbb/rbb/kontraste/ueber_den_tag_hinaus/umwelt/sicherheitsrisiko
DTSTAMP:20140405T221105
DESCRIPTION:Die Bundesatomaufsicht sieht ein zu hohes Sicherheitsrisiko für das hessische Kernkraftwerk Biblis. Deshalb will sie das Wiederanfahren des Reaktors vorläufig stoppen. Anlass sind KONTRASTE-Recherchen, die belegen, dass es an dem Reaktor Probleme mit dem Notkühlsystem gibt.
SUMMARY:Sicherheitsrisiko Biblis - Atomaufsicht gegen Wiederanfahren des Reaktors
END:VEVENT
END:VCALENDAR
