BEGIN:VCALENDAR
X-WR-TIMEZONE:Europe/Berlin
X-WR-CALNAME:rbb-Kalender
VERSION:2.0
METHOD:PUBLISH
CALSCALE:GREGORIAN
PRODID:rbb-CMS DAY
BEGIN:VEVENT
CLASS:PUBLIC
URL:http://www.rbb-online.de/content/rbb/rbb/kontraste/ueber_den_tag_hinaus/wirtschaft/schwarzarbeit___das.html
DTEND:20100311T214500
DTSTART:20100311T214500
UID:/content/rbb/rbb/kontraste/ueber_den_tag_hinaus/wirtschaft/schwarzarbeit___das
DTSTAMP:20140405T222018
DESCRIPTION:Offiziell ist Schwarzarbeit verpönt. Die Bundesregierung hat ihr schon oft den Kampf angesagt. Doch in der Praxis tut sie wenig. Dafür hat sie sogar gute Gründe: Schwarzarbeit fördert gerade in Krisenzeiten die Binnennachfrage und sichert den Beschäftigten ein zusätzliches steuerfreies Einkommen.
SUMMARY:Schwarzarbeit – das Liechtenstein des kleinen Mannes
END:VEVENT
END:VCALENDAR
