BEGIN:VCALENDAR
X-WR-TIMEZONE:Europe/Berlin
X-WR-CALNAME:rbb-Kalender
VERSION:2.0
METHOD:PUBLISH
CALSCALE:GREGORIAN
PRODID:rbb-CMS DAY
BEGIN:VEVENT
CLASS:PUBLIC
URL:http://www.rbb-online.de/content/rbb/rbb/kontraste/ueber_den_tag_hinaus/wirtschaft/transparenz_fehlanzeige.html
DTEND:20080911T214500
DTSTART:20080911T214500
UID:/content/rbb/rbb/kontraste/ueber_den_tag_hinaus/wirtschaft/transparenz_fehlanzeige
DTSTAMP:20140405T220946
DESCRIPTION:Bis jetzt sind es fast 11 Milliarden Euro, öffentliche Mittel zur Rettung der privaten Industriebank (IKB). Doch genaue Hintergründe des Finanzdeals bleiben geheim. Selbst die Abgeordneten des Deutschen Bundestages erfahren kaum etwas. Der Wirtschaftsminister schiebt die Verantwortung von sich, der Finanzminister will in der Sache nicht reden. Steffen Mayer und Kay Walter über fehlende Transparenz beim größten Finanzskandal der letzten Jahre.
SUMMARY:Transparenz Fehlanzeige – Milliarden Steuergelder für die Industriebank
END:VEVENT
END:VCALENDAR
