BEGIN:VCALENDAR
X-WR-TIMEZONE:Europe/Berlin
X-WR-CALNAME:rbb-Kalender
VERSION:2.0
METHOD:PUBLISH
CALSCALE:GREGORIAN
PRODID:rbb-CMS DAY
BEGIN:VEVENT
CLASS:PUBLIC
URL:http://www.rbb-online.de/content/rbb/rbb/kontraste/ueber_den_tag_hinaus/wirtschaft/verpatzter_neustart.html
DTEND:20090730T214500
DTSTART:20090730T214500
UID:/content/rbb/rbb/kontraste/ueber_den_tag_hinaus/wirtschaft/verpatzter_neustart
DTSTAMP:20140405T215642
DESCRIPTION:Nach Mehdorns Abgang sollte alles besser werden: Doch dann kam das S-Bahn Chaos in Berlin. Seit Wochen ist der S-Bahn-Verkehr in Berlin durch Zugausfälle so gut wie lahm gelegt. Die Deutsche Bahn als Eigentümer der S-Bahn hat bisher auf maximalen Profit gesetzt und die Wartung der Züge vernachlässigt.
SUMMARY:Verpatzter Neustart – Die Deutsche Bahn unter Grube
END:VEVENT
END:VCALENDAR
