BEGIN:VCALENDAR
X-WR-TIMEZONE:Europe/Berlin
X-WR-CALNAME:rbb-Kalender
VERSION:2.0
METHOD:PUBLISH
CALSCALE:GREGORIAN
PRODID:rbb-CMS DAY
BEGIN:VEVENT
CLASS:PUBLIC
URL:http://www.rbb-online.de/content/rbb/rbb/kowalskiundschmidt/archiv/20130804_1832/eine-jahrhundertfreundschaft.html
DTEND:20130804T190000
DTSTART:20130804T183200
UID:/content/rbb/rbb/kowalskiundschmidt/archiv/20130804_1832/eine-jahrhundertfreundschaft
DTSTAMP:20140406T060052
DESCRIPTION:Nächstes Jahr feiert der ehemalige Intendant der Staatsoper Unter den Linden, Hans Pischner, seinen 100. Geburtstag. Was kaum jemand von ihm weiß: 1938 rettete sein Vater eine jüdische Familie vor dem Zugriff der Gestapo. Mit der damals 11-jährigen jüdischen Susanne Manovill ist er auch heute noch befreundet, und wenn die nunmehr 87-Jährige Hans Pischner in Berlin besucht, dann erinnern sie sich an ihre gemeinsamen Jugendjahre in Breslau und an das Glück nach so langer Zeit noch immer 'da' zu sein.\n\n\n
SUMMARY:Eine Jahrhundertfreundschaft
END:VEVENT
END:VCALENDAR
