BEGIN:VCALENDAR
X-WR-TIMEZONE:Europe/Berlin
X-WR-CALNAME:rbb-Kalender
VERSION:2.0
METHOD:PUBLISH
CALSCALE:GREGORIAN
PRODID:rbb-CMS DAY
BEGIN:VEVENT
CLASS:PUBLIC
URL:http://www.rbb-online.de/content/rbb/rbb/kowalskiundschmidt/archiv/20130804_1832/keine-grenzen.html
DTEND:20130804T190000
DTSTART:20130804T183200
UID:/content/rbb/rbb/kowalskiundschmidt/archiv/20130804_1832/keine-grenzen
DTSTAMP:20140406T174236
DESCRIPTION:Grenzen sind im vereinten Europa eigentlich nur Striche auf der Landkarte. Darüber sind sie sich einig, die jungen Brandenburger aus Oberhavel und ihre polnischen Freunde aus Siedlce östlich von Warschau. Sie haben den alten Hit "Keine Grenzen" von Michał Wiśniewski wiederentdeckt und den Popveteranen ins Tonstudio eingeladen: Lingua Musica!\n\n\n
SUMMARY:Keine Grenzen
END:VEVENT
END:VCALENDAR
