BEGIN:VCALENDAR
X-WR-TIMEZONE:Europe/Berlin
X-WR-CALNAME:rbb-Kalender
VERSION:2.0
METHOD:PUBLISH
CALSCALE:GREGORIAN
PRODID:rbb-CMS DAY
BEGIN:VEVENT
LOCATION:Deutsch-polnisches Journal
CLASS:PUBLIC
URL:http://www.rbb-online.de/content/rbb/rbb/kowalskiundschmidt/archiv/20130818_1832.html
DTEND:20130818T190000
DTSTART:20130818T183200
UID:/content/rbb/rbb/kowalskiundschmidt/archiv/20130818_1832
DTSTAMP:20140405T192528
DESCRIPTION:+ Das "Kapital" als Lesestoff\n\n+ Von Odessa in den Spreewald\n\n+ Auf der Suche nach den Eltern\n\n+ Bigos im Tekkno-Polo-Sound\n
SUMMARY:Kowalski & Schmidt 18.08.2013 18:32
END:VEVENT
END:VCALENDAR
