BEGIN:VCALENDAR
X-WR-TIMEZONE:Europe/Berlin
X-WR-CALNAME:rbb-Kalender
VERSION:2.0
METHOD:PUBLISH
CALSCALE:GREGORIAN
PRODID:rbb-CMS DAY
BEGIN:VEVENT
CLASS:PUBLIC
URL:http://www.rbb-online.de/content/rbb/rbb/kowalskiundschmidt/archiv/20130818_1832/auf-der-suche-nach-eltern.html
DTEND:20130818T190000
DTSTART:20130818T183200
UID:/content/rbb/rbb/kowalskiundschmidt/archiv/20130818_1832/auf-der-suche-nach-eltern
DTSTAMP:20140406T173443
DESCRIPTION:Sie war vier Monate alt, als sie Unbekannte 1942 in ein Warschauer Krankenhaus brachten. Ein polnisches Ehepaar hat sie adoptiert – und so vor dem Tod gerettet. Jahre später erfährt die Jüdin Barbara Skowronek ihre wahre Geschichte.\n\n\n
SUMMARY:Auf der Suche nach den Eltern
END:VEVENT
END:VCALENDAR
