BEGIN:VCALENDAR
X-WR-TIMEZONE:Europe/Berlin
X-WR-CALNAME:rbb-Kalender
VERSION:2.0
METHOD:PUBLISH
CALSCALE:GREGORIAN
PRODID:rbb-CMS DAY
BEGIN:VEVENT
LOCATION:Deutsch-polnisches Journal
CLASS:PUBLIC
URL:http://www.rbb-online.de/content/rbb/rbb/kowalskiundschmidt/archiv/kowalsk-schmidt-vom-08-12-2013.html
DTEND:20131208T190000
DTSTART:20131208T183000
UID:/content/rbb/rbb/kowalskiundschmidt/archiv/kowalsk-schmidt-vom-08-12-2013
DTSTAMP:20140404T220249
DESCRIPTION:+ Sein oder Nichtsein an der Spree\n\n+ Wie ist Made in Poland ?\n\n+ So schön kann doch kein Mann sein ...\n\n+ Kogel - Mogel - Weihnachten\n
SUMMARY:Kowalski & Schmidt vom 08.12.2013
END:VEVENT
END:VCALENDAR
