BEGIN:VCALENDAR
X-WR-TIMEZONE:Europe/Berlin
X-WR-CALNAME:rbb-Kalender
VERSION:2.0
METHOD:PUBLISH
CALSCALE:GREGORIAN
PRODID:rbb-CMS DAY
BEGIN:VEVENT
LOCATION:Deutsch-polnisches Journal
CLASS:PUBLIC
URL:http://www.rbb-online.de/content/rbb/rbb/kowalskiundschmidt/archiv/kowalski-schmidt-02-03-14.html
DTEND:20140302T190000
DTSTART:20140302T183200
UID:/content/rbb/rbb/kowalskiundschmidt/archiv/kowalski-schmidt-02-03-14
DTSTAMP:20140404T220041
DESCRIPTION:+++ Roma in Breslau +++ Solidarität mit der Ukraine +++ Verdi in Theresienstadt +++ Chinesisch für Berliner Kinder +++ Kogel-Mogel: Vornamen\n\n\n
SUMMARY:Kowalski & Schmidt 02.03.2014 18:32
END:VEVENT
END:VCALENDAR
