BEGIN:VCALENDAR
X-WR-TIMEZONE:Europe/Berlin
X-WR-CALNAME:rbb-Kalender
VERSION:2.0
METHOD:PUBLISH
CALSCALE:GREGORIAN
PRODID:rbb-CMS DAY
BEGIN:VEVENT
CLASS:PUBLIC
URL:http://www.rbb-online.de/content/rbb/rbb/kowalskiundschmidt/archiv/kowalski-schmidt-16-03-14/frauen-an-waffen.html
DTEND:20140316T190000
DTSTART:20140316T183200
UID:/content/rbb/rbb/kowalskiundschmidt/archiv/kowalski-schmidt-16-03-14/frauen-an-waffen
DTSTAMP:20140404T220557
DESCRIPTION:Die polnische Armee ist innerhalb der NATO Schlusslicht, was den Anteil von Frauen angeht.  Verteidigungsminister Tomasz Siemoniak will das ändern. Sehr zum Verdruss der meisten Soldaten, die sich von weiblichen Offizieren nicht gerne kommandieren lassen. Wir besuchen Soldatinnen der 17. Großpolnischen Mechanisierten Brigade in Miedzyrzecz.\n
SUMMARY:Frauen an die Waffen
END:VEVENT
END:VCALENDAR
