BEGIN:VCALENDAR
X-WR-TIMEZONE:Europe/Berlin
X-WR-CALNAME:rbb-Kalender
VERSION:2.0
METHOD:PUBLISH
CALSCALE:GREGORIAN
PRODID:rbb-CMS DAY
BEGIN:VEVENT
CLASS:PUBLIC
URL:http://www.rbb-online.de/content/rbb/rbb/kowalskiundschmidt/archiv/kowalski-schmidt-16-03-14/stuetze-fuer-sozialkassen.html
DTEND:20140316T190000
DTSTART:20140316T183200
UID:/content/rbb/rbb/kowalskiundschmidt/archiv/kowalski-schmidt-16-03-14/stuetze-fuer-sozialkassen
DTSTAMP:20140404T220037
DESCRIPTION:Seit den 60er Jahren haben Tausende Gastarbeiter geholfen, die deutsche Industrie wieder aufzubauen. Und mit ihren Beiträgen die Kassen der Sozialsysteme gefüllt. Seit der Wende kommen vor allem EU-Bürger nach Berlin - die meisten hoch qualifiziert. Auch sie stützen die deutschen Sozialkassen. Die "Einwanderung in die Sozialsysteme", ist eine Lüge, die vor allem vor Wahlen wieder und wieder bemüht wird.\n
SUMMARY:Stütze für die Sozialkassen
END:VEVENT
END:VCALENDAR
