BEGIN:VCALENDAR
X-WR-TIMEZONE:Europe/Berlin
X-WR-CALNAME:rbb-Kalender
VERSION:2.0
METHOD:PUBLISH
CALSCALE:GREGORIAN
PRODID:rbb-CMS DAY
BEGIN:VEVENT
CLASS:PUBLIC
URL:http://www.rbb-online.de/content/rbb/rbb/kowalskiundschmidt/archiv/kowalski-schmidt-30-03-14/deutscher-im-schloss.html
DTEND:20140330T190000
DTSTART:20140330T183200
UID:/content/rbb/rbb/kowalskiundschmidt/archiv/kowalski-schmidt-30-03-14/deutscher-im-schloss
DTSTAMP:20140404T215827
DESCRIPTION:Alexander Watin hat jahrelang für die deutsche Pharmaindustrie in Polen gearbeitet. Mit dem Geld, das er verdiente, hat er sich mit seiner polnischen Frau einen alten Herrensitz geleistet.\n
SUMMARY:Ein Deutscher im Schloss
END:VEVENT
END:VCALENDAR
