BEGIN:VCALENDAR
X-WR-TIMEZONE:Europe/Berlin
X-WR-CALNAME:rbb-Kalender
VERSION:2.0
METHOD:PUBLISH
CALSCALE:GREGORIAN
PRODID:rbb-CMS DAY
BEGIN:VEVENT
CLASS:PUBLIC
URL:http://www.rbb-online.de/content/rbb/rbb/kowalskiundschmidt/archiv/kowalski-schmidt-30-03-14/kogel-mogel.html
DTEND:20140330T190000
DTSTART:20140330T183200
UID:/content/rbb/rbb/kowalskiundschmidt/archiv/kowalski-schmidt-30-03-14/kogel-mogel
DTSTAMP:20140404T220029
DESCRIPTION:Kinder der deutsch-polnischen Europa-Schule in Berlin erklären deutsche und polnische Begriffe für Anfänger, heute: "Polnisch für Anfänger".\n
SUMMARY:Kogel- Mogel
END:VEVENT
END:VCALENDAR
