BEGIN:VCALENDAR
X-WR-TIMEZONE:Europe/Berlin
X-WR-CALNAME:rbb-Kalender
VERSION:2.0
METHOD:PUBLISH
CALSCALE:GREGORIAN
PRODID:rbb-CMS DAY
BEGIN:VEVENT
CLASS:PUBLIC
URL:http://www.rbb-online.de/content/rbb/rbb/kowalskiundschmidt/archiv/kowalski-schmidt-30-03-14/porta-polonica-in-bochum.html
DTEND:20140330T190000
DTSTART:20140330T183200
UID:/content/rbb/rbb/kowalskiundschmidt/archiv/kowalski-schmidt-30-03-14/porta-polonica-in-bochum
DTSTAMP:20140404T220115
DESCRIPTION:Sie kamen im 19. Jahrhundert als Arbeitskräfte ins Ruhrgebiet. Heute sind die Polen eine der am besten integrierten Einwanderergruppen. Ihre Geschichte soll das "Polnische Haus" erzählen - ein Dokumentationszentrum, das derzeit in Bochum entsteht.\n
SUMMARY:Porta Polonica in Bochum
END:VEVENT
END:VCALENDAR
