BEGIN:VCALENDAR
X-WR-TIMEZONE:Europe/Berlin
X-WR-CALNAME:rbb-Kalender
VERSION:2.0
METHOD:PUBLISH
CALSCALE:GREGORIAN
PRODID:rbb-CMS DAY
BEGIN:VEVENT
LOCATION:Deutsch-polnisches Journal
CLASS:PUBLIC
URL:http://www.rbb-online.de/content/rbb/rbb/kowalskiundschmidt/archiv/kowalski-schmidt-vom-01-09-2013.html
DTEND:20130901T190000
DTSTART:20130901T183200
UID:/content/rbb/rbb/kowalskiundschmidt/archiv/kowalski-schmidt-vom-01-09-2013
DTSTAMP:20140405T192712
DESCRIPTION:+++ Genius Loci - Der Geist des Ortes +++ Bomben auf Wieluń +++ Ich und meine Mutter +++ Das neue Gesicht von Stettin +++ Nachruf Sławomir Mrożek\n\n\n\n\n
SUMMARY:Kowalski & Schmidt 01.09.2013 18:30
END:VEVENT
END:VCALENDAR
