BEGIN:VCALENDAR
X-WR-TIMEZONE:Europe/Berlin
X-WR-CALNAME:rbb-Kalender
VERSION:2.0
METHOD:PUBLISH
CALSCALE:GREGORIAN
PRODID:rbb-CMS DAY
BEGIN:VEVENT
CLASS:PUBLIC
URL:http://www.rbb-online.de/content/rbb/rbb/kowalskiundschmidt/archiv/kowalski-schmidt-vom-01-09-2013/internationale-kultur-stadt-stettin.html
DTEND:20130901T190000
DTSTART:20130901T183200
UID:/content/rbb/rbb/kowalskiundschmidt/archiv/kowalski-schmidt-vom-01-09-2013/internationale-kultur-stadt-stettin
DTSTAMP:20140406T173814
DESCRIPTION:\n\nZwei neue Museen werden gerade gebaut, die Philharmonie steht kurz vor der Eröffnung… im rasanten Tempo entwickelt sich die pommersche Hafenstadt Stettin zur internationalen Kulturstadt. Auch die Alternativszene blüht. Constanze Kleiner, die neue Leiterin der Stettiner Kunsthalle TRAFO, nimmt uns mit auf eine Entdeckungstour.\n\n\n
SUMMARY:Das neue Gesicht von Stettin
END:VEVENT
END:VCALENDAR
