BEGIN:VCALENDAR
X-WR-TIMEZONE:Europe/Berlin
X-WR-CALNAME:rbb-Kalender
VERSION:2.0
METHOD:PUBLISH
CALSCALE:GREGORIAN
PRODID:rbb-CMS DAY
BEGIN:VEVENT
CLASS:PUBLIC
URL:http://www.rbb-online.de/content/rbb/rbb/kowalskiundschmidt/archiv/kowalski-schmidt-vom-01-09-2013/tod-von-autor-slawomir-mrozek.html
DTEND:20130901T190000
DTSTART:20130901T183200
UID:/content/rbb/rbb/kowalskiundschmidt/archiv/kowalski-schmidt-vom-01-09-2013/tod-von-autor-slawomir-mrozek
DTSTAMP:20140406T173749
DESCRIPTION:Sein großes Thema war die Ohnmacht des Einzelnen gegenüber dem totalitären Regime; sein literarisches Werkzeug, die Satire, das Groteske und Absurde. Sławomir Mrożek war einer der bedeutendsten Gegenwartsautoren Polens und fand mit Theaterstücken wie "Tango" und "Die Emigranten" auch international großen Anklang. Jetzt ist er im Alter von 83 Jahren gestorben.\n\n\n\n\n
SUMMARY:Nachruf Sławomir Mrożek
END:VEVENT
END:VCALENDAR
