BEGIN:VCALENDAR
X-WR-TIMEZONE:Europe/Berlin
X-WR-CALNAME:rbb-Kalender
VERSION:2.0
METHOD:PUBLISH
CALSCALE:GREGORIAN
PRODID:rbb-CMS DAY
BEGIN:VEVENT
CLASS:PUBLIC
URL:http://www.rbb-online.de/content/rbb/rbb/kowalskiundschmidt/archiv/kowalski-schmidt-vom-10-11-2013/die-vergessene-romadichterin.html
DTEND:20131110T190000
DTSTART:20131110T183200
UID:/content/rbb/rbb/kowalskiundschmidt/archiv/kowalski-schmidt-vom-10-11-2013/die-vergessene-romadichterin
DTSTAMP:20140406T173633
DESCRIPTION:Sie konnte weder schreiben noch lesen, und doch schrieb sie Gedichte, die sie berühmt machten: Bronislawa Wajs genannt "Papusza", das heißt auf Romani "Puppe". Wegen angeblichem Verrat von Clan-Geheimnissen hat die Roma-Gemeinschaft sie ausgeschlossen. Papusza erkrankte psychisch und verstummte als Dichterin. An ihr tragisches Schicksal erinnert nun ein Film auf dem Cottbuser Filmfestival.\n\n\n\n\n
SUMMARY:Die vergessene Romadichterin
END:VEVENT
END:VCALENDAR
