BEGIN:VCALENDAR
X-WR-TIMEZONE:Europe/Berlin
X-WR-CALNAME:rbb-Kalender
VERSION:2.0
METHOD:PUBLISH
CALSCALE:GREGORIAN
PRODID:rbb-CMS DAY
BEGIN:VEVENT
LOCATION:Deutsch-polnisches Journal
CLASS:PUBLIC
URL:http://www.rbb-online.de/content/rbb/rbb/kowalskiundschmidt/archiv/kowalski-schmidt-vom-13-10-2013.html
DTEND:20131013T190000
DTSTART:20131013T183200
UID:/content/rbb/rbb/kowalskiundschmidt/archiv/kowalski-schmidt-vom-13-10-2013
DTSTAMP:20140405T193117
DESCRIPTION:+ Mit Schleppnetz auf Fischfang\n\n+ Mit innovativen Ideen zum Startkapital\n\n+ Mit deutschem Know-How zum Erfolg\n\n+ Mit polnischen Wurzeln im Berliner Underground\n\n+ Mit polnischer Freundin und italienischem Optimismus\n\n
SUMMARY:Kowalski & Schmidt 13.10.2013 18:30
END:VEVENT
END:VCALENDAR
