BEGIN:VCALENDAR
X-WR-TIMEZONE:Europe/Berlin
X-WR-CALNAME:rbb-Kalender
VERSION:2.0
METHOD:PUBLISH
CALSCALE:GREGORIAN
PRODID:rbb-CMS DAY
BEGIN:VEVENT
CLASS:PUBLIC
URL:http://www.rbb-online.de/content/rbb/rbb/kowalskiundschmidt/archiv/kowalski-schmidt-vom-13-10-2013/Know-how-wein.html
DTEND:20131013T190000
DTSTART:20131013T183200
UID:/content/rbb/rbb/kowalskiundschmidt/archiv/kowalski-schmidt-vom-13-10-2013/Know-how-wein
DTSTAMP:20140406T174415
DESCRIPTION:Bis zum 2. Weltkrieg war die Gegend um Zielona Góra als Weinregion bekannt. 1826 wurde hier der erste deutsche Sekt hergestellt. Im kommunistischen Polen fast komplett zerstört, erfährt die jahrhundertealte Tradition seit den 1990er Jahren eine Renaissance. Z.B. Marek Krojcig: Er baut im Lebuserland Riesling und Regent mit moderner Technik an. Konkurrenz für die Winzer im Westen!\n\n\n\n\n
SUMMARY:Mit deutschem Know-How zum Erfolg
END:VEVENT
END:VCALENDAR
