BEGIN:VCALENDAR
X-WR-TIMEZONE:Europe/Berlin
X-WR-CALNAME:rbb-Kalender
VERSION:2.0
METHOD:PUBLISH
CALSCALE:GREGORIAN
PRODID:rbb-CMS DAY
BEGIN:VEVENT
CLASS:PUBLIC
URL:http://www.rbb-online.de/content/rbb/rbb/kowalskiundschmidt/archiv/kowalski-schmidt-vom-13-10-2013/kowalski-start-up.html
DTEND:20131013T190000
DTSTART:20131013T183200
UID:/content/rbb/rbb/kowalskiundschmidt/archiv/kowalski-schmidt-vom-13-10-2013/kowalski-start-up
DTSTAMP:20140406T174448
DESCRIPTION:"Arm, aber sexy" war gestern. Seit einigen Jahren fließt das Großkapital wieder nach Berlin. Investiert wird aber nicht in Maschinen- und Gerätebau, sondern in Ideen und Know-How. Die so genannten "STARTUPS" locken junge Kreative in die Bundeshauptstadt. Dort treffen sie andere Kreative, usw. Nur der Kontakt mit Investoren, der ist mühsamer. Wer hat eine Chance für langfristigen Erfolg? Zwei Beispiele aus der Berliner Szene.\n\n\n\n\n
SUMMARY:Mit innovativen Ideen zum Startkapital
END:VEVENT
END:VCALENDAR
