BEGIN:VCALENDAR
X-WR-TIMEZONE:Europe/Berlin
X-WR-CALNAME:rbb-Kalender
VERSION:2.0
METHOD:PUBLISH
CALSCALE:GREGORIAN
PRODID:rbb-CMS DAY
BEGIN:VEVENT
CLASS:PUBLIC
URL:http://www.rbb-online.de/content/rbb/rbb/kowalskiundschmidt/archiv/kowalski-schmidt-vom-13-10-2013/polnische-wurzeln-underground.html
DTEND:20131013T190000
DTSTART:20131013T183200
UID:/content/rbb/rbb/kowalskiundschmidt/archiv/kowalski-schmidt-vom-13-10-2013/polnische-wurzeln-underground
DTSTAMP:20140406T174430
DESCRIPTION:Früher, in Polen, hieß er Filip Czułowski. Mit vier kam er nach Deutschland, die Eltern waren politische Flüchtlinge. Heute nennt er sich Phil Barbee. Er ist DJ, Produzent, Autor und Sound-Künstler, seine Klangfarben sind international. Wie es aussieht, gründet er gerade ein Familienunternehmen: seine 4jährige Tochter "legt auch auf".\n\n\n
SUMMARY:Mit polnischen Wurzeln im Berliner Underground
END:VEVENT
END:VCALENDAR
