BEGIN:VCALENDAR
X-WR-TIMEZONE:Europe/Berlin
X-WR-CALNAME:rbb-Kalender
VERSION:2.0
METHOD:PUBLISH
CALSCALE:GREGORIAN
PRODID:rbb-CMS DAY
BEGIN:VEVENT
CLASS:PUBLIC
URL:http://www.rbb-online.de/content/rbb/rbb/kowalskiundschmidt/archiv/kowalski-schmidt-vom-15-09-2013/Deutsch-polin-im-bundestag.html
DTEND:20130915T190000
DTSTART:20130915T183200
UID:/content/rbb/rbb/kowalskiundschmidt/archiv/kowalski-schmidt-vom-15-09-2013/Deutsch-polin-im-bundestag
DTSTAMP:20140406T173246
DESCRIPTION:"Oberschwaben und ich, das passt perfekt zusammen", sagt die Grünen-Abgeordnete Agnieszka Brugger. In Polen geboren, ging sie in Deutschland zur Schule und seit 2009 vertritt sie den Wahlkreis Ravensburg im deutschen Parlament.\n\n\n
SUMMARY:Eine Deutsch-Polin im Bundestag
END:VEVENT
END:VCALENDAR
