BEGIN:VCALENDAR
X-WR-TIMEZONE:Europe/Berlin
X-WR-CALNAME:rbb-Kalender
VERSION:2.0
METHOD:PUBLISH
CALSCALE:GREGORIAN
PRODID:rbb-CMS DAY
BEGIN:VEVENT
CLASS:PUBLIC
URL:http://www.rbb-online.de/content/rbb/rbb/kowalskiundschmidt/archiv/kowalski-schmidt-vom-15-09-2013/guerrillera-mit-herz.html
DTEND:20130915T190000
DTSTART:20130915T183200
UID:/content/rbb/rbb/kowalskiundschmidt/archiv/kowalski-schmidt-vom-15-09-2013/guerrillera-mit-herz
DTSTAMP:20140406T173308
DESCRIPTION:Vor 40 Jahren wurde der sozialistische Präsident Chile’s, Salvador Allende von den Militärs gestürzt und ermordet. Carmen Gennermann gehörte zu denen, die im Untergrund gegen die Diktatur von General Pinochet kämpfte, bis sie ins DDR Exil ging.\n\n\n
SUMMARY:Eine Guerrillera mit Herz
END:VEVENT
END:VCALENDAR
