BEGIN:VCALENDAR
X-WR-TIMEZONE:Europe/Berlin
X-WR-CALNAME:rbb-Kalender
VERSION:2.0
METHOD:PUBLISH
CALSCALE:GREGORIAN
PRODID:rbb-CMS DAY
BEGIN:VEVENT
CLASS:PUBLIC
URL:http://www.rbb-online.de/content/rbb/rbb/kowalskiundschmidt/archiv/kowalski-schmidt-vom-16022014/berlin-liegt-im-osten.html
DTEND:20140216T190000
DTSTART:20140216T183200
UID:/content/rbb/rbb/kowalskiundschmidt/archiv/kowalski-schmidt-vom-16022014/berlin-liegt-im-osten
DTSTAMP:20140404T220305
DESCRIPTION:Nellja Veremej kommt aus Russland und lebt seit 20 Jahren in Berlin. Ihre Erfahrungen als Emigrantin in Deutschland beschreibt sie in ihrem Roman „Berlin liegt im Osten“. Sie schildert die Nachwendezeit in Berlin und wählt den Alexanderplatz zum Schauplatz ihrer Handlung. Ihr feinfühliges Porträt einer Generation von Emigranten und Übriggebliebenen der Wende wurde mit dem Adelbert-von-Chamisso-Preis ausgezeichnet.\n\n\n
SUMMARY:Berlin liegt im Osten
END:VEVENT
END:VCALENDAR
