BEGIN:VCALENDAR
X-WR-TIMEZONE:Europe/Berlin
X-WR-CALNAME:rbb-Kalender
VERSION:2.0
METHOD:PUBLISH
CALSCALE:GREGORIAN
PRODID:rbb-CMS DAY
BEGIN:VEVENT
CLASS:PUBLIC
URL:http://www.rbb-online.de/content/rbb/rbb/kowalskiundschmidt/archiv/kowalski-schmidt-vom-29-09-2013/neon-nostalgie.html
DTEND:20130929T190000
DTSTART:20130929T183200
UID:/content/rbb/rbb/kowalskiundschmidt/archiv/kowalski-schmidt-vom-29-09-2013/neon-nostalgie
DTSTAMP:20140406T174315
DESCRIPTION:In der Volksrepublik Polen repräsentierten die oft kunstvollen Neon-Reklamen die große, weite Welt. Doch zu kaufen gab es in den Läden kaum etwas. Die Fotografin Ilona Karwinska will wenigstens einen Teil der schönen, alten "Neons" retten. Sie hat in Warschau ein Neon-Museum eröffnet – das erste in der Welt!\n
SUMMARY:Neon Nostalgie - Ein Warschauer Museum entdeckt altes Licht wieder
END:VEVENT
END:VCALENDAR
