BEGIN:VCALENDAR
X-WR-TIMEZONE:Europe/Berlin
X-WR-CALNAME:rbb-Kalender
VERSION:2.0
METHOD:PUBLISH
CALSCALE:GREGORIAN
PRODID:rbb-CMS DAY
BEGIN:VEVENT
CLASS:PUBLIC
URL:http://www.rbb-online.de/content/rbb/rbb/kowalskiundschmidt/archiv/kowalski-schmidt-vom-29-09-2013/von-japanischen-und-polnischen-versagern.html
DTEND:20130929T190000
DTSTART:20130929T183200
UID:/content/rbb/rbb/kowalskiundschmidt/archiv/kowalski-schmidt-vom-29-09-2013/von-japanischen-und-polnischen-versagern
DTSTAMP:20140406T174332
DESCRIPTION:Hairy Geishas & Yakuzas with boobs – so heißt eine japanische Performance im Club der Polnischen Versager in Berlin Mitte. Es ist vielleicht die schrillste Gruppe, die man in der Stadt derzeit erleben kann. Der Club füllt sich dann mit Manga- und Samurai-ähnlichen Gestalten, die in Berlin nach Freiheit und neuer Identität suchen.\n
SUMMARY:Von Japanischen und Polnischen Versagern
END:VEVENT
END:VCALENDAR
