BEGIN:VCALENDAR
X-WR-TIMEZONE:Europe/Berlin
X-WR-CALNAME:rbb-Kalender
VERSION:2.0
METHOD:PUBLISH
CALSCALE:GREGORIAN
PRODID:rbb-CMS DAY
BEGIN:VEVENT
CLASS:PUBLIC
URL:http://www.rbb-online.de/content/rbb/rbb/kowalskiundschmidt/archiv/kowalski___schmidt24/pferde_ohne_arbeit.html
DTEND:20130407T183200
DTSTART:20130407T183200
UID:/content/rbb/rbb/kowalskiundschmidt/archiv/kowalski___schmidt24/pferde_ohne_arbeit
DTSTAMP:20140406T173545
DESCRIPTION:Bis zu einer Tonne wiegen die schweren Kaltblutpferde. Doch seit es für sie kaum noch Arbeit gibt, landen immer mehr von ihnen auf dem Schlachthof. Sie extra dafür zu züchten, gilt in Polen als Tabu. Doch es ist oft die einzige Einnahmequelle für die kleinen Landwirte.
SUMMARY:Pferde ohne Arbeit
END:VEVENT
END:VCALENDAR
